BEGIN:VCALENDAR
VERSION:2.0
PRODID:-//Woodland Classroom - ECPv6.15.20//NONSGML v1.0//EN
CALSCALE:GREGORIAN
METHOD:PUBLISH
X-ORIGINAL-URL:https://woodlandclassroom.com
X-WR-CALDESC:Events for Woodland Classroom
REFRESH-INTERVAL;VALUE=DURATION:PT1H
X-Robots-Tag:noindex
X-PUBLISHED-TTL:PT1H
BEGIN:VTIMEZONE
TZID:Europe/London
BEGIN:DAYLIGHT
TZOFFSETFROM:+0000
TZOFFSETTO:+0100
TZNAME:BST
DTSTART:20250330T010000
END:DAYLIGHT
BEGIN:STANDARD
TZOFFSETFROM:+0100
TZOFFSETTO:+0000
TZNAME:GMT
DTSTART:20251026T010000
END:STANDARD
BEGIN:DAYLIGHT
TZOFFSETFROM:+0000
TZOFFSETTO:+0100
TZNAME:BST
DTSTART:20260329T010000
END:DAYLIGHT
BEGIN:STANDARD
TZOFFSETFROM:+0100
TZOFFSETTO:+0000
TZNAME:GMT
DTSTART:20261025T010000
END:STANDARD
BEGIN:DAYLIGHT
TZOFFSETFROM:+0000
TZOFFSETTO:+0100
TZNAME:BST
DTSTART:20270328T010000
END:DAYLIGHT
BEGIN:STANDARD
TZOFFSETFROM:+0100
TZOFFSETTO:+0000
TZNAME:GMT
DTSTART:20271031T010000
END:STANDARD
END:VTIMEZONE
BEGIN:VEVENT
DTSTART;TZID=Europe/London:20260428T193000
DTEND;TZID=Europe/London:20260428T203000
DTSTAMP:20260419T173753
CREATED:20191107T145018Z
LAST-MODIFIED:20260326T102647Z
UID:33244-1777404600-1777408200@woodlandclassroom.com
SUMMARY:How To Identify Trees in Spring (FREE Online Workshop)
DESCRIPTION:[vc_row full_width=”stretch_row” el_class=”innerpage-rowgraphic”][vc_column width=”2/3″][vc_column_text css=”” el_class=”inner-pagetitle”] \nLearn to see the trees from the wood.\nWant to boost your Tree ID skills this spring? Do you struggle to know your alders from your elders\, your hawthorn from your blackthorn? Join our FREE workshop online and let us help you. \nJames Kendall\, Bushcraft Instructor and author of The Complete Tree ID Course\, will be hosting a live webinar workshop where you can learn tips & tricks to identifying a range of native and common tree species here in the UK. \nSpring sees the countryside bursting with colour and life. The dormant buds of our trees transform with leaves\, flowers and catkins emerging. There’s a lot to take in. Tree flowers come in all shapes and sizes\, and some are so small you could walk right by them. But if we look closer we can understand the clues trees give us to unlock their identity and so much more. Like autumn this is a period of dramatic change. It’s a really interesting time to be out in the woods. \nWe’re offering this workshop online to anyone and everyone who is interested in finding out more about the trees around them. \nYOUR WORKSHOP INCLUDES:\n* Confidence in native & common tree identification \n* Using flowers\, young leaves\, blossom\, catkins and other spring signs \n* Which trees have edible leaves & flowers in spring \n* Get Tree ID cheat sheets to download \n* Discover 3 key hacks to help identify any tree \n* Get book recommendations \n* Ask James your burning questions in our Q&A Session \n* Get access to our FREE online course: Kickstart Your Tree ID Skills \nThe workshop will last 1hr and will be hosted via Zoom. \n  \nHOW TO BOOK\nIt’s FREE to join this workshop. So\, all you need to do in advance is register for your free place in advance. Once registered you will be sent the link to the Zoom meeting via email. \nREGISTER FOR YOUR PLACE HERE[/vc_column_text][/vc_column][vc_column width=”1/3″]		[vc_column_text] \nEvent details\n[/vc_column_text][vc_column_text css=”” el_class=”white-text”]Date: Tues 28th April 2026 \nTime: 7:30 pm – 8:30 pm \nVenue: Zoom Meeting \nCost: FREE![/vc_column_text]Register now		[/vc_column][/vc_row][vc_row][vc_column][vc_single_image image=”26471″ img_size=”full” alignment=”center”][/vc_column][/vc_row][vc_row full_width=”stretch_row” el_class=”row-graphic-white” css=”.vc_custom_1573054760131{background-image: url(https://woodlandclassroom.com/wp-content/uploads/2019/11/background-texture.jpg?id=12328) !important;background-position: center !important;background-repeat: no-repeat !important;background-size: cover !important;}”][vc_column][vc_row_inner content_placement=”middle”][vc_column_inner width=”2/3″][vc_column_text] \nYour Tutor: James Kendall\n[/vc_column_text][vc_column_text]James is the Head Bushcraft Instructor at Woodland Classroom\, having worked in outdoor education & conservation for over 10 years. James’ approach to teaching steers students toward fostering a deeper connection with nature through understanding the landscape around us; “Bushcraft skills are an effective way to do this as we learn how to make use of natural materials and live lightly with the land\, whilst also connecting with our own ancient past by seeing the land through the eyes of our ancestors.” \nJames previously manage the largest community woodland in Wales\, 300 acres of mixed conifers and broadleaves and in 2017 James received the Bushcraft Competency Certificate awarded through the Institute for Outdoor Learning after 2 years of teaching experience and practical study. He is also a member of the IOL Bushcraft Professional Practise Group. The group aims to promote best practice in the growing industry of bushcraft activity providers.[/vc_column_text]Find Out More[/vc_column_inner][vc_column_inner width=”1/3″][vc_single_image image=”25125″ img_size=”full” alignment=”center” el_class=”wd-circle-image”][/vc_column_inner][/vc_row_inner][/vc_column][/vc_row][vc_row][vc_column][vc_row_inner content_placement=”middle”][vc_column_inner width=”1/3″][vc_single_image image=”26348″ img_size=”full” alignment=”center” el_class=”wd-circle-image”][/vc_column_inner][vc_column_inner width=”2/3″][vc_column_text] \nBecome a Tree Expert\n[/vc_column_text][vc_column_text css=””]During this workshop you will also learn about our much more extensive online course; The Complete Tree ID Course. Go from clueless to confident on your journey to becoming a tree expert\, featuring up to 55 species of native & common trees\, all taught by James Kendall. \nYou will learn key principles of tree identification\, which are easy to remember and can be applied to any tree you encounter. You will have videos\, photo galleries and tree ID cheat sheets at your fingertips. \nThis course will take you through every native tree species in the UK in all 4 seasons; winter\, spring\, summer and autumn. You will learn not only how to identify trees by their leaves but also by their bark\, buds\, seeds & more. \nWe will be offering all attendees of this free workshop a special discount offer to sign up to the full course. So\, if you want to know more\, don’t forget to register for your place.[/vc_column_text][/vc_column_inner][/vc_row_inner][/vc_column][/vc_row][vc_row full_width=”stretch_row” css=”.vc_custom_1573143170656{background-color: #6c7d4d !important;}”][vc_column][vc_column_text] \nSkills you will learn\n[/vc_column_text][vc_column_text el_class=”cream-text”] \nDuring this workshop you will learn a range of skills\, including… \n[/vc_column_text][vc_row_inner][vc_column_inner width=”1/4″]\n\n	\nReading the Landscape   [/vc_column_inner][vc_column_inner width=”1/4″]\n\n	\nNature Connection   [/vc_column_inner][vc_column_inner width=”1/4″]\n\n	\nTree & Plant identification   [/vc_column_inner][vc_column_inner width=”1/4″]\n\n	\nUnderstanding Habitats   [/vc_column_inner][/vc_row_inner][/vc_column][/vc_row][vc_row el_id=”book-now”][vc_column][vc_column_text] \nBook now\n[/vc_column_text][vc_column_text] \nThis workshop is totally FREE and is open to anyone. Simply follow the link to register for the workshop on Zoom and you will be sent the link so you can join the meeting. \n[/vc_column_text]Book Your Place Now[/vc_column][/vc_row]
URL:https://woodlandclassroom.com/event/how-to-identify-trees-in-spring-free-online-workshop-3/
LOCATION:Zoom Meeting
CATEGORIES:Adult Learning,Bushcraft Courses,Bushcraft Skills,Organisations
ATTACH;FMTTYPE=image/jpeg:https://woodlandclassroom.com/wp-content/uploads/2019/11/spring-tree-id-online-featured-event-pic.jpg
END:VEVENT
BEGIN:VEVENT
DTSTART;TZID=Europe/London:20260502T100000
DTEND;TZID=Europe/London:20260502T130000
DTSTAMP:20260419T173753
CREATED:20191107T145018Z
LAST-MODIFIED:20251118T185522Z
UID:32949-1777716000-1777726800@woodlandclassroom.com
SUMMARY:Spring Foraging Walk
DESCRIPTION:[vc_row full_width=”stretch_row” el_class=”innerpage-rowgraphic”][vc_column width=”2/3″][vc_column_text] \nWalk the wild food trail & discover foraging\n[/vc_column_text][vc_column_text el_class=”inner-pagetitle”]Explore wild plants that you can eat in your local patch. Join us for a guided walk through a range of landscapes on the hunt for the best wild foods that spring has to offer. Gain confidence in foraging and learn how to use these wild plants in your own cooking.[/vc_column_text][vc_column_text css=””] \nEdible wild plants are often viewed with suspicion and thought to be bitter or tasteless\, only to be eaten as a last resort. But to the forager\, our woodlands and hedgerows are full of tasty and filling wild food opportunities. \nYou’ll be taking a half day ramble along the hedgerows on the hunt for “food for free” all set against the backdrop of mixed ancient woodlands\, parkland and open meadows of the National Trust’s Erddig estate & gardens\, with over 400 acres of wild space to explore. Don’t forget to bring your own basket or bag to grab some wild edibles to take home. \n[/vc_column_text][vc_column_text] \n\nTake a guided foraging walk through the woods\, meadows & hedgerows\nGain confidence in identifying a variety of edible plants\nDiscover medicinal uses for seasonal wild plants\nEnjoy a wild tea taster\nLearn how to forage with a sustainable approach to the habitat\nUnderstand the law and your rights when foraging\n\n[/vc_column_text][/vc_column][vc_column width=”1/3″]		[vc_column_text] \nEvent details\n[/vc_column_text][vc_column_text css=”” el_class=”white-text”]Date: Sat 2nd May 2026 \nTime: 10am – 1pm \nVenue: Erddig \nCost: £30[/vc_column_text]Book now		[/vc_column][/vc_row][vc_row][vc_column][vc_single_image image=”25202″ img_size=”full” alignment=”center”][/vc_column][/vc_row][vc_row full_width=”stretch_row” el_class=”row-graphic-white” css=”.vc_custom_1573054760131{background-image: url(https://woodlandclassroom.com/wp-content/uploads/2019/11/background-texture.jpg?id=12328) !important;background-position: center !important;background-repeat: no-repeat !important;background-size: cover !important;}”][vc_column][vc_row_inner content_placement=”middle”][vc_column_inner width=”2/3″][vc_column_text css=””] \nYour Tutor: Lea Kendall\n[/vc_column_text][vc_column_text css=””]Lea is a qualified Counsellor and Mindfulness in a Woodland Setting practitioner. She is also the co-creator of Your Wild Food Year\, an extensive online course in foraging for wild foods. \nLea is a firm believer in the power of nature to be therapeutic for everyone. Lea is an active forager\, passionate about how we can use common plants for both food and medicine. She enjoys making her own tinctures and medicinal remedies for treating common ailments.[/vc_column_text]Find Out More[/vc_column_inner][vc_column_inner width=”1/3″][vc_single_image image=”15097″ img_size=”full” alignment=”center” css=”” el_class=”wd-circle-image”][/vc_column_inner][/vc_row_inner][/vc_column][/vc_row][vc_row full_width=”stretch_row” css=”.vc_custom_1573143170656{background-color: #6c7d4d !important;}”][vc_column][vc_column_text] \nSkills you will learn\n[/vc_column_text][vc_column_text el_class=”cream-text”] \nOver the course of the programme you will learn a range of skills\, including… \n[/vc_column_text][vc_row_inner][vc_column_inner width=”1/4″]\n\n	\nReading the Landscape   [/vc_column_inner][vc_column_inner width=”1/4″]\n\n	\nHedgerow Medicine   [/vc_column_inner][vc_column_inner width=”1/4″]\n\n	\nTree & Plant identification   [/vc_column_inner][vc_column_inner width=”1/4″]\n\n	\nHedgerow Foraging   [/vc_column_inner][/vc_row_inner][/vc_column][/vc_row][vc_row el_id=”book-now”][vc_column][vc_column_text] \nBook now\n[/vc_column_text][vc_column_text css=””] \nThis walk costs £30 per person and is open to adult learners aged 16 years and over. Children are welcome to attend if accompanied by an adult\, though bear in mind that the course content is not aimed at children – get in touch to find out more. You can read our Event Terms & Conditions here. \n[/vc_column_text][/vc_column][/vc_row]
URL:https://woodlandclassroom.com/event/spring-foraging-walk-7/
LOCATION:Erddig
CATEGORIES:Adult Learning,Bushcraft Courses,Foraging & Wild Cooking,Mindfulness & Bushcraft,Wellbeing in the Woods
ATTACH;FMTTYPE=image/jpeg:https://woodlandclassroom.com/wp-content/uploads/2019/11/spring-foraging-walk-event-featured-pic.jpg
END:VEVENT
END:VCALENDAR